BEGIN:VCALENDAR
VERSION:2.0
PRODID:-//avanessen.nl - ECPv6.15.20//NONSGML v1.0//EN
CALSCALE:GREGORIAN
METHOD:PUBLISH
X-WR-CALNAME:avanessen.nl
X-ORIGINAL-URL:https://www.avanessen.nl
X-WR-CALDESC:Evenementen voor avanessen.nl
REFRESH-INTERVAL;VALUE=DURATION:PT1H
X-Robots-Tag:noindex
X-PUBLISHED-TTL:PT1H
BEGIN:VTIMEZONE
TZID:Europe/Amsterdam
BEGIN:DAYLIGHT
TZOFFSETFROM:+0100
TZOFFSETTO:+0200
TZNAME:CEST
DTSTART:20240331T010000
END:DAYLIGHT
BEGIN:STANDARD
TZOFFSETFROM:+0200
TZOFFSETTO:+0100
TZNAME:CET
DTSTART:20241027T010000
END:STANDARD
BEGIN:DAYLIGHT
TZOFFSETFROM:+0100
TZOFFSETTO:+0200
TZNAME:CEST
DTSTART:20250330T010000
END:DAYLIGHT
BEGIN:STANDARD
TZOFFSETFROM:+0200
TZOFFSETTO:+0100
TZNAME:CET
DTSTART:20251026T010000
END:STANDARD
BEGIN:DAYLIGHT
TZOFFSETFROM:+0100
TZOFFSETTO:+0200
TZNAME:CEST
DTSTART:20260329T010000
END:DAYLIGHT
BEGIN:STANDARD
TZOFFSETFROM:+0200
TZOFFSETTO:+0100
TZNAME:CET
DTSTART:20261025T010000
END:STANDARD
END:VTIMEZONE
BEGIN:VEVENT
DTSTART;TZID=Europe/Amsterdam:20251101T210000
DTEND;TZID=Europe/Amsterdam:20251102T010000
DTSTAMP:20260419T160718
CREATED:20250708T120816Z
LAST-MODIFIED:20250708T121705Z
UID:10000134-1762030800-1762045200@www.avanessen.nl
SUMMARY:Qmusic the Party - 4 uur Fout
DESCRIPTION:
URL:https://www.avanessen.nl/event/qmusic-the-party-4-uur-fout-31/
LOCATION:Koepelhal NS-Plein 5014 DA Tilburg
END:VEVENT
END:VCALENDAR